BEGIN:VCALENDAR
METHOD:PUBLISH
PRODID:Data::ICal 0.13
VERSION:2.0
BEGIN:VEVENT
DESCRIPTION:
DTSTAMP:20260425T000423Z
DTSTART;TZID=America/New_York:20170707T000000
DTEND;TZID=America/New_York:20170707T000000
LOCATION:
SUMMARY:Wyclef Jean Guests On The Rickey Smiley Morning Show
UID:1795478-1499385600-1499385600
END:VEVENT
END:VCALENDAR
