BEGIN:VCALENDAR
METHOD:PUBLISH
PRODID:Data::ICal 0.13
VERSION:2.0
BEGIN:VEVENT
DESCRIPTION:&nbsp;\n\n&nbsp;\n\n&nbsp;\n\n&nbsp;\n\n&nbsp;
DTSTAMP:20260424T233157Z
DTSTART;TZID=America/New_York:20170506T160000
DTEND;TZID=America/New_York:20170506T180000
LOCATION:2021 N Hampton Rd\, DeSoto\, TX\, 75115
SUMMARY:The Secret&#8217;s To A Mans Heart [Panel Event]
UID:1776997-1494086400-1494093600
END:VEVENT
END:VCALENDAR
