BEGIN:VCALENDAR
METHOD:PUBLISH
PRODID:Data::ICal 0.13
VERSION:2.0
BEGIN:VEVENT
DESCRIPTION:
DTSTAMP:20260425T025306Z
DTSTART;TZID=America/New_York:20170429T000000
DTEND;TZID=America/New_York:20170429T000000
LOCATION:Orlando\, Florida
SUMMARY:Orlando Funkfest Starring Da Brat, Charlie Wilson, Joe, Fantasia, &amp; Mystikal
UID:1776993-1493424000-1493424000
END:VEVENT
END:VCALENDAR
