BEGIN:VCALENDAR
METHOD:PUBLISH
PRODID:Data::ICal 0.13
VERSION:2.0
BEGIN:VEVENT
DESCRIPTION:
DTSTAMP:20260425T031705Z
DTSTART;TZID=America/New_York:20170517T080000
DTEND;TZID=America/New_York:20170517T080000
LOCATION:
SUMMARY:Maria More Guest On The Rickey Smiley Morning Show
UID:1780239-1495008000-1495008000
END:VEVENT
END:VCALENDAR
